{"text_format":"1","workbook":"xlsx","n_sheets":8,"sheets":["allgemeine Angaben","Anlage Personalabgleich 50% FKQ","Anlage Personalabgleich sonst.","Belegungsplanung 50% FKQ","Belegungsplanung sonst.","Personalaufwand","Anlage zum Personalaufwand","Übersicht Heimentgelte"],"not_rendered":{"charts":0,"images":0,"macros":1,"external_links":1,"defined_names":29,"comments":1,"pivot_tables":0},"unopened":[],"bounds":{"document_bytes":16777216,"sheet_cells":100000,"rows_first":2000,"rows_last":500,"rows_between":2000,"halvings":0,"cell_chars":16384,"cell_head_chars":4096},"cells_cut":0,"cells_raw":0,"read":"whole","date_system":"1900"}

{"sheet":"allgemeine Angaben","index":0,"n_rows":52,"n_cols":17,"rows_kept":52,"cut":false,"hidden":false,"merged":[[40,14,40,17],[42,14,42,17],[32,11,32,13],[39,13,39,17],[28,13,28,17],[38,13,38,17],[0,0,0,18],[1,0,1,18],[2,0,2,18],[26,13,26,17],[37,13,37,17],[36,13,36,17]]}
["Gemeinsame Formularblätter der Sozialleistungsträger und der Vereinigungen der Träger der Pflegeeinrichtungen auf Landesebene"]
["zum vereinfachten Verfahren nach § 19 Abs. 6 RV § 75 SGB XI für die vollstationäre Pflege in Rheinland-Pfalz"]
["F O R M U L A R B L A T T  I"]
[]
["A.","Allgemeine Angaben"]
[]
["1.","Einrichtung",null,null,null,null,null,null,null,null,"2.","Träger"]
[]
[null,"Name der Einrichtung:",null,"Mustereinrichtung",null,null,null,null,null,null,null,"Träger der Einrichtung:"]
[null,"Straße:",null,"Musterstraße",null,null,null,null,null,null,null,"Straße:",null,null,"Musterstraße"]
[null,"PLZ/Ort:",null,"11880 Musterstadt",null,null,null,null,null,null,null,"PLZ/Ort:",null,null,"11880 Musterstadt"]
[null,"Tel.-Nr./Fax-Nr.:",null,null,null,null,null,null,null,null,null,"Tel.-Nr./Fax-Nr.:"]
[null,"E-Mail:",null,"muster@t-online.de",null,null,null,null,null,null,null,"E-Mail:",null,null,"muster@t-online.de"]
[null,"IK-Kennzeichen:",null,11880,null,null,null,null,null,null,null,"Landkreis/kreisfreie Stadt:",null,null,"Musterkreis"]
[null,"Landkreis/kreisfreie Stadt:",null,"Musterkreis"]
[]
[null,null,null,null,null,null,null,null,null,null,null,"Zugehörigkeit zu einer Vereinigung der Träger auf Landesebene:"]
[]
[null,null,null,null,null,null,null,null,null,null,null,"x",null,"ja",null,null,"nein"]
[]
[null,null,null,null,null,null,null,null,null,null,null,"Name der Vereinigung:"]
[]
[]
["3.","Zahl der zugelassenen Pflegeplätze (ohne Ausweichzimmer)",null,null,null,null,null,null,null,null,"6.","Berechnung der Fachkraftquote"]
[]
[]
[null,"vollstationäre Pflegeplätze:",null,72,"Einbettzimmer:",null,63,null,null,null,null,null,true,"Pflegefachkraftquote von 50% auf die aktuell vereinbarten Schlüssel"]
[]
[null,"plus Kurzzeitpflegeplätze:",null,3,"Doppelzimmer:",null,6,null,null,null,null,null,false,"Abweichende Berechnung vereinbart"]
[]
[null,"gesamt:",null,{"$f":"D29+D27","v":75},"Mehrbettzimmer:"]
[]
[null,null,"Auslastung:",0.95,null,null,null,null,null,null,null,"Bei Abweichender Berechnung"]
[]
[null,null,"Pflegetage:",{"$f":"ROUND(D31*365*0.95,0)","v":26006}]
[]
[null,null,null,null,null,null,null,null,null,null,null,null,null,"Mehrpersonalisierung mit einjährig ausgebildeten Pflegekräften"]
[null,null,null,null,null,null,null,null,null,null,null,null,null,"Die Mehrpersonalisierung erfolgte durch angelernte Hilfskräfte"]
[null,null,null,null,null,null,null,null,null,null,null,null,null,"Mehrpersonalisierung mit angelernten Pflegekräften"]
[null,null,null,null,null,null,null,null,null,null,null,null,null,"Die Mehrpersonalisierung erfolgte durch einjährig ausgebildete Hilfskräfte"]
[null,null,null,null,null,null,null,null,null,null,null,null,null,"Sonstiges:"]
[]
["4.","Ergänzende Angebote (nachrichtliche Platzzahl)"]
[]
[]
[null,"Tagespflege:",null,10]
[]
[null,"Nachtpflege:",null,0]
[]
[]
[]
["5.","Umsetzung beantragt ab",null,"2024-01-01"]

{"sheet":"Anlage Personalabgleich 50% FKQ","index":1,"n_rows":57,"n_cols":11,"rows_kept":57,"cut":false,"hidden":true,"merged":[[33,2,33,3],[36,1,36,2],[38,1,38,3],[39,1,39,4],[31,1,31,2],[0,0,0,10],[13,1,13,2],[14,1,14,2],[15,1,15,2],[19,8,21,8],[19,9,21,9],[19,10,21,10],[29,8,31,8],[29,9,31,9],[29,10,31,10],[53,3,53,4],[47,1,47,4],[48,1,48,4],[51,1,51,4],[44,8,47,8]]}
["Anlage  Personalabgleich zum zum vereinfachten Verfahren zum vereinfachten Verfahren nach § 19 Abs. 6 RV § 75 SGB XI für die vollstationäre Pflege in Rheinland-Pfalz"]
[]
[]
[null,"Umsetzung ab","2024-01-01"]
[]
[null,"Einrichtung",null,null,"Träger"]
[null,"Name","Mustereinrichtung",null,"Name","Musterträger"]
[null,"Straße","Musterstraße "," ","Straße","Musterstraße "]
[null,"PLZ/Ort","08215 Musterstadt",null,"PLZ/Ort","08215 Musterstadt"]
[null,"IK-Nr.:","0815 11 88 0 ",null,"IK-Nr.:","0815 11 88 0 "]
[]
[]
[null,"Berechnung des IST-Personalbedarfs und der Pflegefachkraftquote"]
[]
[null,"An- und Abwesenheitstage inkl. eKZP in der Zeit vom",null,"2022-11-01",null,"durchschnittliche Belegung ab dem",{"$f":"D15","v":"2022-11-01"}]
[null,"bis zum",null,{"$f":"DATE(YEAR(D15),MONTH(D15)+12,DAY(D15)-1)","v":"2023-10-31"},null,"bis zum ",{"$f":"D16","v":"2023-10-31"}]
[null," (12-Monatzeitraum ab Monatsbeginn vor Zeitpunkt der Antragstellung)",null,null,null,12,"Monate "]
[null,null,null,null,null,{"$f":"D16-D15+1","v":365},"Abrechnungstage"]
[]
[null,"Pflegegrad ","Status","Anzahl",null,null,null,null,"Personal-schlüssel aktuell","SOLLSTELLEN lt. RV § 75 SGB XI"]
[null,"<= 1","anwesend",67,null,"Pflegegrad <= 1",{"$f":"ROUND(((D21+D22)/F18),2)","v":0.18}]
[null,null,"abwesend",0,null,"Pflegegrad 2",{"$f":"ROUND(((D23+D24)/F18),2)","v":14.7}]
[null,2,"anwesend",5235,null,"Pflegegrad 3",{"$f":"ROUND(((D25+D26)/F18),2)","v":21.76},null,7,{"$f":"ROUND((G21/I23),2)","v":0.03}]
[null,null,"abwesend",132,null,"Pflegegrad 4",{"$f":"ROUND(((D27+D28)/F18),2)","v":20.52},null,4.13,{"$f":"ROUND((G22/I24),2)","v":3.56}]
[null,3,"anwesend",7494,null,"Pflegegrad 5",{"$f":"ROUND(((D29+D30)/F18),2)","v":14.08},null,3.14,{"$f":"ROUND((G23/I25),2)","v":6.93}]
[null,null,"abwesend",449,null,"Gesamt",{"$f":"SUM(G21:G25)","v":71.239999999999995},null,2.5499999999999998,{"$f":"ROUND((G24/I26),2)","v":8.0500000000000007}]
[null,4,"anwesend",7124,null,null,null,null,1.8,{"$f":"ROUND((G25/I27),2)","v":7.82}]
[null,null,"abwesend",366,null,null,null,null,null,{"$f":"SUM(J23:J27)","v":26.39},"Pflege "]
[null,5,"anwesend",5132,null,null,null,null,{"$f":"50","v":50},{"$f":"ROUND((G26/50),2)","v":1.42},"Soziale Betreuung"]
[null,null,"abwesend",7,null,null,null,null,null,{"$f":"J28+J29","v":27.810000000000002},"Gesamtstellen Pflege und soziale Betreuung (ohne PDL, § 43b u. bereits vereinbarter Teilhabesicherung/Ehrenamt)"]
[]
[]
[]
[null,null,"Ø-liches SOLL-Personal in der Zeit vom ",null,{"$f":"D15","v":"2022-11-01"},"bis zum",{"$f":"D16","v":"2023-10-31"},":",{"$f":"J30","v":27.810000000000002}]
[]
[]
[null,"Ist-Personal in der Zeit vom",null,{"$f":"D15","v":"2022-11-01"},"bis zum ",{"$f":"D16","v":"2023-10-31"}]
[]
[null,"durchschnittliche Anzahl Altenpflegehilfeschüler:",null,null,null,3]
[null,"durchschnittliche Anzahl Schüler in der generalistischen Pflegeausbildung im 2. und 3. Ausbildungsjahr",null,null,null,5]
[]
[null,"Pflege- und Soziale Betreuung",null,null,null,"Fachkräfte","Hilfskräfte","Gesamt"]
[null,"(ohne zusätzliche Stellen nach § 8 Abs. 6, § 43b und § 84 Abs. 9 SGB XI)",null,null,null,"IST-VZK ","IST-VZK","IST-VZK "]
[null,"Pflegefachkräfte ohne PDL, QM, Praxisanleitung, soziale Betreuung, Ehrenamt",null,null,null,13.195,null,{"$f":"F44+G44","v":13.195},{"$f":"F44-(J28/2)","v":0}]
[null,"Pflegehilfskräfte mit einjähriger Ausbildung",null,null,null,null,2.12,2.12,{"$f":"SUM(H45:H48)-(J28/2)","v":0.77500000000000036}]
[null,"Pflegehilfskräfte ohne Altenpflegeschüler",null,null,null,null,10.75,10.75]
[null,"Altenpflegehilfeschüler (Anrechnung 1:7 auf Pflegehilfskräfte)",null,null,null,null,{"$f":"ROUND((F39/7),2)","v":0.43},{"$f":"F47+G47","v":0.43}]
[null,"Schüler generalistische Pflegeausbildung im 2. und 3. Ausbildungsjahr",null,null,null,null,{"$f":"ROUND((F40/7.5),2)","v":0.67},{"$f":"F48+G48","v":0.67}]
[null,"Zwischensumme:",null,null,null,{"$f":"SUM(F44:F48)","v":13.195},{"$f":"SUM(G45:G48)","v":13.97},{"$f":"SUM(H44:H48)","v":27.165000000000003}]
[null,"Fachkräfte soziale Betreuung (ohne § 43b und Ehrenamt-Kräfte) ",null,null,null,0.71,null,0.71]
[null,"Hilfskräfte soziale Betreuung (ohne § 43b und Ehrenamt-Kräfte)",null,null,null,null,0.71,0.71]
[null,"Zwischensumme:",null,null,null,{"$f":"SUM(F50:F51)","v":0.71},{"$f":"SUM(G51)","v":0.71},{"$f":"SUM(H50:H51)","v":1.42},{"$f":"H52-J29","v":0}]
[null,"Pflegedienstleitung (im vereinbarten freigestelltem Umfang)",null,null,null,1,null,{"$f":"F53","v":1}]
[null,"Stelle für Praxisanleitung (wenn vereinbart)",null,"ohne Stellenanteile der Praxisanleitung nach dem PflBG",null,1,null,{"$f":"F54+G54","v":1}]
[null,"Stelle für Qualitätsmanagement (wenn vereinbart)",null,null,null,1,null,{"$f":"F55+G55","v":1}]
[null,"Stelle für Gewinnung ehrenamtlicher Mitarbeiter (wenn vereinbart)",null,null,null,1,null,{"$f":"F56+G56","v":1}]
[null,null,null,"Summe gesamt:",null,{"$f":"SUM(F53:F56)+F50+F44","v":17.905000000000001},{"$f":"G52+G49","v":14.68},{"$f":"SUM(H53:H56)+H52+H49","v":32.585000000000001},{"$f":"H57-F56-F55-F54-F53-J30","v":0.77499999999999858}]

{"sheet":"Anlage Personalabgleich sonst.","index":2,"n_rows":74,"n_cols":11,"rows_kept":74,"cut":false,"hidden":false,"merged":[[70,3,70,4],[64,1,64,4],[68,1,68,4],[65,1,65,4],[61,8,64,8],[15,1,15,2],[55,1,55,3],[19,8,21,8],[19,9,21,9],[56,1,56,4],[19,10,21,10],[33,2,33,3],[53,1,53,2],[29,8,31,8],[29,9,31,9],[29,10,31,10],[31,1,31,2],[40,1,42,1],[40,2,42,2],[36,1,36,2],[14,1,14,2],[0,0,0,10],[4,1,4,6],[13,1,13,2],[13,6,13,7],[13,8,13,9]]}
["Anlage  Personalabgleich zum zum vereinfachten Verfahren zum vereinfachten Verfahren nach § 19 Abs. 6 RV § 75 SGB XI für die vollstationäre Pflege in Rheinland-Pfalz"]
[]
[]
[null,"Umsetzung ab","2024-01-01"]
[]
[null,"Einrichtung",null,null,"Träger"]
[null,"Name","Mustereinrichtung",null,"Name","Musterträger"]
[null,"Straße","Musterstraße "," ","Straße","Musterstraße "]
[null,"PLZ/Ort","08215 Musterstadt",null,"PLZ/Ort","08215 Musterstadt"]
[null,"IK-Nr.:","0815 11 88 0 ",null,"IK-Nr.:","0815 11 88 0 "]
[]
[]
[null,"Berechnung des IST-Personalbedarfs in Pflege und Betreuung"]
[]
[null,"An- und Abwesenheitstage inkl. eKZP in der Zeit vom",null,{"$f":"DATE(YEAR('Übersicht Heimentgelte'!D31),MONTH('Übersicht Heimentgelte'!D31)-12,1)","v":"2022-11-01"},null,"durchschnittliche Belegung ab dem",{"$f":"D15","v":"2022-11-01"}]
[null,"bis zum",null,{"$f":"DATE(YEAR(D15),MONTH(D15)+12,DAY(D15)-1)","v":"2023-10-31"},null,"bis zum ",{"$f":"D16","v":"2023-10-31"}]
[null," (12-Monatzeitraum ab Monatsbeginn vor Zeitpunkt der Antragstellung)",null,null,null,12,"Monate "]
[null,null,null,null,null,{"$f":"D16-D15+1","v":365},"Abrechnungstage"]
[]
[null,"Pflegegrad ","Status","Anzahl",null,null,null,null,"Personal-schlüssel ","SOLLSTELLEN lt. RV § 75 SGB XI"]
[null,"<= 1","anwesend",67,null,"Pflegegrad <= 1",{"$f":"ROUND(((D21+D22)/F18),2)","v":0.18}]
[null,null,"abwesend",0,null,"Pflegegrad 2",{"$f":"ROUND(((D23+D24)/F18),2)","v":14.7}]
[null,2,"anwesend",5235,null,"Pflegegrad 3",{"$f":"ROUND(((D25+D26)/F18),2)","v":21.76},null,7,{"$f":"ROUND((G21/I23),2)","v":0.03}]
[null,null,"abwesend",132,null,"Pflegegrad 4",{"$f":"ROUND(((D27+D28)/F18),2)","v":20.52},null,4.13,{"$f":"ROUND((G22/I24),2)","v":3.56}]
[null,3,"anwesend",7494,null,"Pflegegrad 5",{"$f":"ROUND(((D29+D30)/F18),2)","v":14.08},null,3.14,{"$f":"ROUND((G23/I25),2)","v":6.93}]
[null,null,"abwesend",449,null,"Gesamt",{"$f":"SUM(G21:G25)","v":71.239999999999995},null,2.5499999999999998,{"$f":"ROUND((G24/I26),2)","v":8.0500000000000007}]
[null,4,"anwesend",7124,null,null,null,null,1.8,{"$f":"ROUND((G25/I27),2)","v":7.82}]
[null,null,"abwesend",366,null,null,null,null,null,{"$f":"SUM(J23:J27)","v":26.39},"Pflege "]
[null,5,"anwesend",5132,null,null,null,null,{"$f":"50","v":50},{"$f":"ROUND((G26/50),2)","v":1.42},"Soziale Betreuung"]
[null,null,"abwesend",7,null,null,null,null,null,{"$f":"J28+J29","v":27.810000000000002},"Gesamtstellen Pflege und soziale Betreuung (ohne PDL, § 43b u. bereits vereinbarter Teilhabesicherung/Ehrenamt)"]
[]
[]
[]
[null,null,"Ø-liches SOLL-Personal in der Zeit vom ",null,{"$f":"D15","v":"2022-11-01"},"bis zum",{"$f":"D16","v":"2023-10-31"},":",{"$f":"J30","v":27.810000000000002}]
[]
[]
[null,"Berechnung der Pflegefachkraftquote"]
[]
[null,"nach Umsetzung der Schlüsselverbesserung mit einjährig ausgebildeten und/oder mit angelernten Pflegekräften"]
[]
[null,"Personalschlüssel ","Stellen"]
[]
[]
[null,8.6,{"$f":"ROUND((G21/B44),2)","v":0.02}]
[null,4.5599999999999996,{"$f":"ROUND((G22/B45),2)","v":3.22}]
[null,3.38,{"$f":"ROUND((G23/B46),2)","v":6.44}]
[null,2.65,{"$f":"ROUND((G24/B47),2)","v":7.74}]
[null,1.8,{"$f":"ROUND((G25/B48),2)","v":7.82}]
[null,null,{"$f":"SUM(C44:C48)","v":25.240000000000002}]
[null,0.5,{"$f":"C49*B50","v":12.620000000000001}]
[]
[]
[]
[null,"Ist-Personal in der Zeit vom",null,{"$f":"D15","v":"2022-11-01"},"bis zum ",{"$f":"D16","v":"2023-10-31"}]
[]
[null,"durchschnittliche Anzahl Altenpflegehilfeschüler:",null,null,null,3]
[null,"durchschnittliche Anzahl Schüler in der generalistischen Pflegeausbildung im 2. und 3. Ausbildungsjahr",null,null,null,5]
[]
[null,"Pflege- und Soziale Betreuung",null,null,null,"Fachkräfte","Hilfskräfte","Gesamt"]
[null,"(ohne zusätzliche Stellen nach § 8 Abs. 6, § 43b und § 84 Abs. 9 SGB XI)",null,null,null,"IST-VZK ","IST-VZK","IST-VZK "]
[null,"Pflegefachkräfte ohne PDL, QM, Praxisanleitung, soziale Betreuung, Ehrenamt",null,null,null,12,null,{"$f":"F61+G61","v":12},{"$f":"F61-C50","v":-0.62000000000000099}]
[null,"Pflegehilfskräfte mit einjähriger Ausbildung",null,null,null,null,2.12,2.12,{"$f":"SUM(H62:H65)-(J28-C50)","v":0.20000000000000107}]
[null,"Pflegehilfskräfte ohne Altenpflegeschüler",null,null,null,null,10.75,10.75]
[null,"Altenpflegehilfeschüler (Anrechnung 1:7 auf Pflegehilfskräfte)",null,null,null,null,{"$f":"ROUND((F56/7),2)","v":0.43},{"$f":"F64+G64","v":0.43}]
[null,"Schüler generalistische Pflegeausbildung im 2. und 3. Ausbildungsjahr",null,null,null,null,{"$f":"ROUND((F57/7.5),2)","v":0.67},{"$f":"F65+G65","v":0.67}]
[null,"Zwischensumme:",null,null,null,{"$f":"SUM(F61:F65)","v":12},{"$f":"SUM(G62:G65)","v":13.97},{"$f":"SUM(H61:H65)","v":25.970000000000002}]
[null,"Fachkräfte soziale Betreuung (ohne § 43b und Ehrenamt-Kräfte) ",null,null,null,0.71,null,0.71]
[null,"Hilfskräfte soziale Betreuung (ohne § 43b und Ehrenamt-Kräfte)",null,null,null,null,0.71,0.71]
[null,"Zwischensumme:",null,null,null,{"$f":"SUM(F67:F68)","v":0.71},{"$f":"SUM(G68)","v":0.71},{"$f":"SUM(H67:H68)","v":1.42},{"$f":"H69-J29","v":0}]
[null,"Pflegedienstleitung (im vereinbarten freigestelltem Umfang)",null,null,null,1,null,{"$f":"F70","v":1}]
[null,"Stelle für Praxisanleitung (wenn vereinbart)",null,"ohne Stellenanteile der Praxisanleitung nach dem PflBG",null,1,null,{"$f":"F71+G71","v":1}]
[null,"Stelle für Qualitätsmanagement (wenn vereinbart)",null,null,null,1,null,{"$f":"F72+G72","v":1}]
[null,"Stelle für Gewinnung ehrenamtlicher Mitarbeiter (wenn vereinbart)",null,null,null,1,null,{"$f":"F73+G73","v":1}]
[null,null,null,"Summe gesamt:",null,{"$f":"SUM(F70:F73)+F67+F61","v":16.71},{"$f":"G69+G66","v":14.68},{"$f":"SUM(H70:H73)+H69+H66","v":31.39},{"$f":"H74-F73-F72-F71-F70-J30","v":-0.42000000000000171}]

{"sheet":"Belegungsplanung 50% FKQ","index":3,"n_rows":63,"n_cols":8,"rows_kept":63,"cut":false,"hidden":true,"merged":[[57,7,58,7],[61,0,61,2],[55,0,56,1],[55,2,56,2],[55,3,56,3],[55,4,56,4],[57,0,58,1],[57,2,58,2],[57,3,58,3],[57,4,58,4],[57,5,58,5],[57,6,58,6],[55,7,56,7],[36,4,36,6],[40,4,41,4],[41,5,41,6],[55,5,56,5],[55,6,56,6],[45,1,45,7],[46,0,48,1],[46,2,48,2],[46,3,48,3],[46,4,48,4],[46,5,48,5],[53,6,54,6],[53,7,54,7],[51,7,52,7],[51,0,52,1],[53,5,54,5],[35,5,35,6],[23,0,23,1],[24,0,25,1],[24,2,25,2],[24,3,25,3],[24,4,33,4],[24,5,33,5],[24,6,33,6],[26,3,27,3],[28,3,29,3],[30,3,31,3],[32,3,33,3],[51,3,52,3],[51,6,52,6],[51,2,52,2],[51,5,52,5],[5,1,5,7],[42,4,42,6],[13,0,13,1],[17,0,17,1],[17,7,18,7],[49,5,50,5],[22,1,22,7],[49,0,50,1],[49,2,50,2],[49,3,50,3],[49,6,50,6],[46,6,48,6],[0,0,2,7],[53,0,54,1],[53,2,54,2],[53,3,54,3],[53,4,54,4],[49,4,50,4],[51,4,52,4],[46,7,48,7],[26,0,27,1],[28,0,29,1],[30,0,31,1],[26,2,27,2],[28,2,29,2],[30,2,31,2],[32,2,33,2],[34,4,35,4],[11,0,11,1],[13,7,14,7],[15,0,15,1],[32,0,33,1],[6,7,8,7],[9,7,10,7],[11,7,12,7],[15,7,16,7],[19,0,19,2],[6,2,8,2],[6,3,8,3],[6,4,8,4],[6,5,8,5],[6,6,8,6],[6,0,8,1],[9,0,9,1]]}
["Gemeinsame Formularblätter der Sozialleistungsträger und der Vereinigungen der Träger der Pflegeeinrichtungen auf Landesebene zum vereinfachten Verfahren nach § 19 Abs. 6 RV § 75 SGB XI für die vollstationäre Pflege in Rheinland-Pfalz"]
[]
[]
[]
["B. 1","Belegungsplanung und Personalbesetzung sowie Personalbesetzungspotential"]
["1.","Planung der Belegung - vollstationäre Pflege und Kurzzeitpflege"]
["Pflegegrade",null,null,"Anzahl Pflegetage\nanwesend/ abwesend","%-Werte\nanwesend/ abwesend","Umrechnungs-faktor","Berechnungs-tage\n","Belegung in Köpfen"]
[null,null,null,"Pflegetage"]
[null,null,null,"anw./abw."]
["Pflegegrad 1",null,"anwesend",67,{"$f":"(D10*100)/$E$21","v":0.24474885844748859},1,{"$f":"ROUND((D10*F10),0)","v":67},{"$f":"(D10+D11)/365","v":0.18356164383561643}]
[null,null,"abwesend",0,{"$f":"(D11*100)/$E$21","v":0},0.6,0]
["Pflegegrad 2",null,"anwesend",5235,19.123287671232877,1,{"$f":"ROUND((D12*F12),0)","v":5235},{"$f":"(D12+D13)/365","v":14.704109589041096}]
[null,null,"abwesend",132,0.48219178082191783,0.6,{"$f":"ROUND((D13*F13),0)","v":79}]
["Pflegegrad 3",null,"anwesend",7494,27.375342465753423,1,7494,{"$f":"(D14+D15)/365","v":21.761643835616439}]
[null,null,"abwesend",449,1.6401826484018265,0.6,269]
["Pflegegrad 4",null,"anwesend",7124,26.023744292237442,1,7124,{"$f":"(D16+D17)/365","v":20.520547945205479}]
[null,null,"abwesend",366,1.3369863013698631,0.6,220]
["Pflegegrad 5",null,"anwesend",5132,18.74703196347032,1,5132,{"$f":"(D18+D19)/365","v":14.079452054794521}]
[null,null,"abwesend",7,2.5570776255707764E-2,0.6,4]
["gesamt:",null,null,null,{"$f":"SUM(D10:D19)","v":26006},{"$f":"ROUND(SUM(E10:E19)/100,2)","v":0.95},{"$f":"SUM(G10:G19)","v":25624},{"$f":"SUM(H10:H19)","v":71.249315068493146}]
["max. mögl. Berechnungstage vollstationär:",null,null,null,{"$f":"'allgemeine Angaben'!D31*365","v":27375},1]
[]
["2.","Aktuell vereinbarte Mindestpersonalausstattung (ohne zusätzliche Stellen nach § 8 Abs. 6, § 43b und § 84 Abs. 9 SGB XI) nach Umsetzung der Schlüsselverbesserung mit einjährig ausgebildeten und/oder angelernten Pflegekräften"]
["Pflegegrade",null,"Einrichtungs-individueller Personalschlüssel","Personal in VK","Pflegefachkräfte","Pflegekräfte mit mind. 1-jähriger Ausbildung","angelernte Pflegekräfte"]
["Pflegegrad 1",null,{"$f":"'Anlage Personalabgleich 50% FKQ'!I23","v":7},{"$f":"H10/C25","v":2.6223091976516632E-2},{"$f":"'Anlage Personalabgleich 50% FKQ'!J28/2","v":13.195},0,{"$f":"(D35/2)-F25","v":13.193095758117682}]
[]
["Pflegegrad 2",null,{"$f":"'Anlage Personalabgleich 50% FKQ'!I24","v":4.13},{"$f":"H12/C27","v":3.5603170917775051}]
[]
["Pflegegrad 3",null,{"$f":"'Anlage Personalabgleich 50% FKQ'!I25","v":3.14},{"$f":"H14/C29","v":6.9304598202600127}]
[]
["Pflegegrad 4",null,{"$f":"'Anlage Personalabgleich 50% FKQ'!I26","v":2.5499999999999998},{"$f":"H16/C31","v":8.0472737040021496}]
[]
["Pflegegrad 5",null,{"$f":"'Anlage Personalabgleich 50% FKQ'!I27","v":1.8},{"$f":"H18/C33","v":7.8219178082191778}]
[]
[null,null,null,{"$f":"SUM(D25:D34)","v":26.386191516235364},{"$f":"E25","v":13.195},{"$f":"F25","v":0},{"$f":"G25","v":13.193095758117682}]
[null,null,null,null,null,{"$f":"F35+G35","v":13.193095758117682}]
[null,null,null,null,{"$f":"SUM(E35+F36)","v":26.388095758117682}]
[]
[null,null,null,"soziale Betreuung","Fachkräfte  Betreuung","Beutreuungs-kräfte mit mind. 1-jähriger Ausbildung","angelernte Betreuungs-kräfte"]
[null,null,null,"50",0.5,0.42,0.5]
[null,null,null,{"$f":"H20/D40","v":1.4249863013698629},{"$f":"E40","v":0.5},{"$f":"F40","v":0.42},{"$f":"G40","v":0.5}]
[null,null,null,null,null,{"$f":"F41+G41","v":0.91999999999999993}]
[null,null,null,null,{"$f":"SUM(E41+F42)","v":1.42}]
[]
[]
["3.","Maximale Personelle Besetzung nach § 113c Abs. 1 SGB XI"]
["Pflegegrade",null,"Relation § 113c Abs. 1  Ziffer 3","Relation § 113c Abs. 1  Ziffer 2","Relation § 113c Abs. 1  Ziffer 1","Fachkräfte Pflege und Betreuung","Pflege- und Beutreuungs-kräfte mit mind. 1-jähriger Ausbildung","Pflege- und Betreuungs-kräfte ohne Ausbildung"]
[]
[]
["Pflegegrad 1",null,7.6999999999999999E-2,5.6399999999999999E-2,8.72E-2,{"$f":"H10*C50","v":1.4134246575342466E-2},{"$f":"H10*D50","v":1.0352876712328766E-2}]
[null,null,null,null,null,null,null,{"$f":"H10*E50","v":1.6006575342465752E-2}]
["Pflegegrad 2",null,0.1037,6.7500000000000004E-2,0.1202,{"$f":"H12*C52","v":1.5248161643835616},{"$f":"H12*D52","v":0.99252739726027406},{"$f":"H12*E52","v":1.7674339726027397}]
[]
["Pflegegrad 3",null,0.15509999999999999,0.1074,0.1449,{"$f":"H14*C54","v":3.3752309589041096},{"$f":"H14*D54","v":2.3372005479452054},{"$f":"H14*E54","v":3.1532621917808221}]
[]
["Pflegegrad 4",null,0.24629999999999999,0.14130000000000001,0.16270000000000001,{"$f":"H16*C56","v":5.0542109589041093},{"$f":"H16*D56","v":2.8995534246575345},{"$f":"H16*E56","v":3.3386931506849318}]
[]
["Pflegegrad 5",null,0.38419999999999999,0.11020000000000001,0.17580000000000001,{"$f":"H18*C58","v":5.4093254794520549},{"$f":"H18*D58","v":1.5515556164383564},{"$f":"H18*E58","v":2.4751676712328767}]
[]
["Höchstwerte § 113 c Abs. 1 SGB XI:",null,null,"∑",{"$f":"SUM(F60:H60)","v":33.91947123287671},{"$f":"SUM(F50:F59)","v":15.377717808219177},{"$f":"SUM(G50:G59)","v":7.7911898630136989},{"$f":"SUM(H51:H59)","v":10.750563561643835}]
["Aktuelle Mindestpersonalbesetzung:",null,null,"∑",{"$f":"SUM(F61:H61)","v":27.80809575811768},{"$f":"E25+E40","v":13.695},{"$f":"F25+F40","v":0.42},{"$f":"G25+G40","v":13.693095758117682}]
["Differenz Höchstwerte zu aktueller Mindesbesetzung",null,null,"∑",{"$f":"SUM(F62:H62)","v":6.1113754747590292},{"$f":"F60-F61","v":1.6827178082191772},{"$f":"G60-G61","v":7.3711898630136989},{"$f":"H60-H61","v":-2.9425321964738469}]
["1. Teilschritt: 1/5-Differenz",null,null,"∑",{"$f":"SUM(F63:H63)","v":1.2222750949518058},{"$f":"F62/5","v":0.33654356164383542},{"$f":"G62/5","v":1.4742379726027397},{"$f":"H62/5","v":-0.58850643929476942}]

{"sheet":"Belegungsplanung sonst.","index":4,"n_rows":62,"n_cols":8,"rows_kept":62,"cut":false,"hidden":false,"merged":[[0,0,2,7],[5,1,5,7],[6,0,8,1],[6,2,8,2],[6,3,8,3],[6,4,8,4],[6,5,8,5],[6,6,8,6],[6,7,8,7],[23,0,23,1],[22,1,22,7],[24,6,33,6],[9,0,9,1],[9,7,10,7],[11,0,11,1],[11,7,12,7],[13,0,13,1],[13,7,14,7],[15,0,15,1],[15,7,16,7],[17,0,17,1],[17,7,18,7],[19,0,19,2],[30,0,31,1],[24,0,25,1],[24,2,25,2],[24,3,25,3],[24,4,33,4],[32,0,33,1],[32,2,33,2],[32,3,33,3],[26,0,27,1],[26,2,27,2],[30,2,31,2],[30,3,31,3],[28,0,29,1],[28,2,29,2],[28,3,29,3],[34,4,35,4],[24,5,33,5],[26,3,27,3],[50,4,51,4],[50,5,51,5],[35,5,35,6],[41,5,41,6],[36,4,36,6],[42,4,42,6],[48,6,49,6],[45,4,47,4],[45,5,47,5],[45,6,47,6],[44,1,44,7],[45,0,47,1],[45,2,47,2],[45,3,47,3],[48,0,49,1],[48,2,49,2],[48,3,49,3],[40,4,41,4],[54,3,55,3],[54,4,55,4],[50,7,51,7],[52,0,53,1],[52,2,53,2],[52,3,53,3],[52,4,53,4],[52,5,53,5],[52,6,53,6],[52,7,53,7],[50,0,51,1],[50,2,51,2],[50,3,51,3],[50,6,51,6],[45,7,47,7],[48,4,49,4],[48,5,49,5],[60,0,60,2],[54,5,55,5],[54,6,55,6],[54,0,55,1],[54,2,55,2],[54,7,55,7],[56,0,57,1],[56,2,57,2],[56,3,57,3],[56,4,57,4],[56,5,57,5],[56,6,57,6],[56,7,57,7]]}
["Gemeinsame Formularblätter der Sozialleistungsträger und der Vereinigungen der Träger der Pflegeeinrichtungen auf Landesebene zum vereinfachten Verfahren nach § 19 Abs. 6 RV § 75 SGB XI für die vollstationäre Pflege in Rheinland-Pfalz"]
[]
[]
[]
["B. 1","Belegungsplanung und Personalbesetzung sowie Personalbesetzungspotential"]
["1.","Planung der Belegung - vollstationäre Pflege und Kurzzeitpflege"]
["Pflegegrade",null,null,"Anzahl Pflegetage\nanwesend/ abwesend","%-Werte\nanwesend/ abwesend","Umrechnungs-faktor","Berechnungs-tage\n","Belegung in Köpfen"]
[null,null,null,"Pflegetage"]
[null,null,null,"anw./abw."]
["Pflegegrad 1",null,"anwesend",67,{"$f":"(D10*100)/$E$21","v":0.24474885844748859},1,{"$f":"ROUND((D10*F10),0)","v":67},{"$f":"(D10+D11)/365","v":0.18356164383561643}]
[null,null,"abwesend",0,{"$f":"(D11*100)/$E$21","v":0},0.6,0]
["Pflegegrad 2",null,"anwesend",5235,19.123287671232877,1,{"$f":"ROUND((D12*F12),0)","v":5235},{"$f":"(D12+D13)/365","v":14.704109589041096}]
[null,null,"abwesend",132,0.48219178082191783,0.6,{"$f":"ROUND((D13*F13),0)","v":79}]
["Pflegegrad 3",null,"anwesend",7494,27.375342465753423,1,7494,{"$f":"(D14+D15)/365","v":21.761643835616439}]
[null,null,"abwesend",449,1.6401826484018265,0.6,269]
["Pflegegrad 4",null,"anwesend",7124,26.023744292237442,1,7124,{"$f":"(D16+D17)/365","v":20.520547945205479}]
[null,null,"abwesend",366,1.3369863013698631,0.6,220]
["Pflegegrad 5",null,"anwesend",5132,18.74703196347032,1,5132,{"$f":"(D18+D19)/365","v":14.079452054794521}]
[null,null,"abwesend",7,2.5570776255707764E-2,0.6,4]
["gesamt:",null,null,null,{"$f":"SUM(D10:D19)","v":26006},{"$f":"ROUND(SUM(E10:E19)/100,2)","v":0.95},{"$f":"SUM(G10:G19)","v":25624},{"$f":"SUM(H10:H19)","v":71.249315068493146}]
["max. mögl. Berechnungstage vollstationär:",null,null,null,{"$f":"'allgemeine Angaben'!D31*365","v":27375},1]
[]
["2.","Aktuell vereinbarte Mindestpersonalausstattung (ohne zusätzliche Stellen nach § 8 Abs. 6, § 43b und § 84 Abs. 9 SGB XI) nach Umsetzung der Schlüsselverbesserung mit einjährig ausgebildeten und/oder angelernten Pflegekräften"]
["Pflegegrade",null,"Einrichtungs-individueller Personalschlüssel","Personal in VK","Pflegefachkräfte","Pflegekräfte mit mind. 1-jähriger Ausbildung","angelernte Pflegekräfte"]
["Pflegegrad 1",null,{"$f":"'Anlage Personalabgleich sonst.'!I23","v":7},{"$f":"H10/C25","v":2.6223091976516632E-2},{"$f":"'Anlage Personalabgleich sonst.'!C50","v":12.620000000000001},0,{"$f":"(D35/2)-F25","v":13.193095758117682}]
[]
["Pflegegrad 2",null,{"$f":"'Anlage Personalabgleich sonst.'!I24","v":4.13},{"$f":"H12/C27","v":3.5603170917775051}]
[]
["Pflegegrad 3",null,{"$f":"'Anlage Personalabgleich sonst.'!I25","v":3.14},{"$f":"H14/C29","v":6.9304598202600127}]
[]
["Pflegegrad 4",null,{"$f":"'Anlage Personalabgleich sonst.'!I26","v":2.5499999999999998},{"$f":"H16/C31","v":8.0472737040021496}]
[]
["Pflegegrad 5",null,{"$f":"'Anlage Personalabgleich sonst.'!I27","v":1.8},{"$f":"H18/C33","v":7.8219178082191778}]
[]
[null,null,null,{"$f":"SUM(D25:D34)","v":26.386191516235364},{"$f":"E25","v":12.620000000000001},{"$f":"F25","v":0},{"$f":"G25","v":13.193095758117682}]
[null,null,null,null,null,{"$f":"F35+G35","v":13.193095758117682}]
[null,null,null,null,{"$f":"SUM(E35+F36)","v":25.813095758117683}]
[]
[null,null,null,"soziale Betreuung","Fachkräfte  Betreuung","Beutreuungs-kräfte mit mind. 1-jähriger Ausbildung","angelernte Betreuungs-kräfte"]
[null,null,null,"50",0.5,0.42,0.5]
[null,null,null,{"$f":"H20/D40","v":1.4249863013698629},{"$f":"E40","v":0.5},{"$f":"F40","v":0.42},{"$f":"G40","v":0.5}]
[null,null,null,null,null,{"$f":"F41+G41","v":0.91999999999999993}]
[null,null,null,null,{"$f":"SUM(E41+F42)","v":1.42}]
[]
["3.","Maximale Personelle Besetzung nach § 113c Abs. 1 SGB XI"]
["Pflegegrade",null,"Relation § 113c Abs. 1  Ziffer 3","Relation § 113c Abs. 1  Ziffer 2","Relation § 113c Abs. 1  Ziffer 1","Fachkräfte Pflege und Betreuung","Pflege- und Beutreuungs-kräfte mit mind. 1-jähriger Ausbildung*","Pflege- und Betreuungs-kräfte ohne Ausbildung"]
[]
[]
["Pflegegrad 1",null,7.6999999999999999E-2,5.6399999999999999E-2,8.72E-2,{"$f":"H10*C49","v":1.4134246575342466E-2},{"$f":"H10*D49","v":1.0352876712328766E-2}]
[null,null,null,null,null,null,null,{"$f":"H10*E49","v":1.6006575342465752E-2}]
["Pflegegrad 2",null,0.1037,6.7500000000000004E-2,0.1202,{"$f":"H12*C51","v":1.5248161643835616},{"$f":"H12*D51","v":0.99252739726027406},{"$f":"H12*E51","v":1.7674339726027397}]
[]
["Pflegegrad 3",null,0.15509999999999999,0.1074,0.1449,{"$f":"H14*C53","v":3.3752309589041096},{"$f":"H14*D53","v":2.3372005479452054},{"$f":"H14*E53","v":3.1532621917808221}]
[]
["Pflegegrad 4",null,0.24629999999999999,0.14130000000000001,0.16270000000000001,{"$f":"H16*C55","v":5.0542109589041093},{"$f":"H16*D55","v":2.8995534246575345},{"$f":"H16*E55","v":3.3386931506849318}]
[]
["Pflegegrad 5",null,0.38419999999999999,0.11020000000000001,0.17580000000000001,{"$f":"H18*C57","v":5.4093254794520549},{"$f":"H18*D57","v":1.5515556164383564},{"$f":"H18*E57","v":2.4751676712328767}]
[]
["Höchstwerte § 113 c Abs. 1 SGB XI:",null,null,"∑",{"$f":"SUM(F59:H59)","v":33.91947123287671},{"$f":"SUM(F49:F58)","v":15.377717808219177},{"$f":"SUM(G49:G58)","v":7.7911898630136989},{"$f":"SUM(H50:H58)","v":10.750563561643835}]
["Aktuelle Mindestpersonalbesetzung:",null,null,"∑",{"$f":"SUM(F60:H60)","v":27.233095758117685},{"$f":"E25+E40","v":13.120000000000001},{"$f":"F25+F40","v":0.42},{"$f":"G25+G40","v":13.693095758117682}]
["Differenz Höchstwerte zu aktueller Mindesbesetzung",null,null,"∑",{"$f":"SUM(F61:H61)","v":6.6863754747590285},{"$f":"F59-F60","v":2.2577178082191764},{"$f":"G59-G60","v":7.3711898630136989},{"$f":"H59-H60","v":-2.9425321964738469}]
["1. Teilschritt: 1/5-Differenz",null,null,"∑",{"$f":"SUM(F62:H62)","v":1.3372750949518055},{"$f":"F61/5","v":0.4515435616438353},{"$f":"G61/5","v":1.4742379726027397},{"$f":"H61/5","v":-0.58850643929476942}]

{"sheet":"Personalaufwand","index":5,"n_rows":47,"n_cols":8,"rows_kept":47,"cut":false,"hidden":false,"merged":[[23,5,23,6],[41,5,41,6],[13,1,13,3],[12,5,12,6],[42,5,42,6],[13,5,13,6],[12,1,12,3],[43,5,43,6],[39,5,39,6],[40,5,40,6],[25,5,25,6],[26,5,26,6],[27,5,27,6],[28,5,28,6],[29,6,30,6],[8,5,9,6],[10,1,10,3],[0,0,0,9],[1,0,1,9],[2,0,2,9],[8,1,9,3],[8,4,9,4],[8,7,9,7],[10,5,10,6]]}
["Gemeinsame Formularblätter der Sozialleistungsträger und der Vereinigungen der Träger der Pflegeeinrichtungen auf Landesebene"]
["zum vereinfachten Verfahren nach § 19 Abs. 5 RV § 75 SGB XI für die vollstationäre Pflege in Rheinland-Pfalz"]
["F O R M U L A R B L A T T  III"]
[]
["C.","Stellenplanung und Kalkulation der Personalaufwendungen zum vereinfachten Verfahren nach § 19 Abs. 6 RV § 75 SGB XI für die vollstationäre Pflege in Rheinland-Pfalz"]
[null,"Die Jahrespersonalkosten sind entsprechend Anlage 2 einschließlich Zulagen, Zuschläge (auch Sonderzuwendungen), Zusatzversorgung und Arbeitgeberanteil an der Sozialversicherung kalkuliert."]
[null,"Teilzeitstellen sind über den Stellenanteil auf Vollzeitkräfte umzurechnen."]
[]
[null,"zusätzliche Stellen nach Anlage zum Personalaufwand",null,null,"Anzahl Stellen in \nVollzeitkräften","Kalkulierte Personal-\naufwendungen pro VZK-Stelle",null,"kalkulierte Jahrespersonal-\nkosten"]
[]
[null,"Gesamt",null,null,{"$f":"'Anlage zum Personalaufwand'!G28","v":1.22},{"$f":"'Anlage zum Personalaufwand'!N28","v":60460},null,{"$f":"'Anlage zum Personalaufwand'!M28","v":73761.2}]
[]
[null,"Qualifikationsniveaus",null,null,"Fachkräfte Pflege und Betreuung","Pflege- und Beutreuungskräfte mit mind. 1-jähriger Ausbildung",null,"Pflege- und Betreuungskräfte ohne Ausbildung"]
[null,"Zu vereinbarende Stellenanteile",null,null,{"$f":"'Anlage zum Personalaufwand'!G15/'Anlage zum Personalaufwand'!G28","v":0.4098360655737705},{"$f":"'Anlage zum Personalaufwand'!G21/'Anlage zum Personalaufwand'!G28","v":0.42622950819672134},null,{"$f":"'Anlage zum Personalaufwand'!G27/'Anlage zum Personalaufwand'!G28","v":0.16393442622950821}]
[]
["D. ","Ermittlung der Erhöhung der Pflegesätze für PG 1 bis 5 und des EEE vollstationär für die PG 2 bis 5"]
[]
[null,null,"Personalaufwand gesamt",null,{"$f":"H11","v":73761.2}]
[null,null,"Berechnungstage",null,25624]
[null,null,"Personalaufwand gesamt ",null,"Pflege 70 %",null,"Unterkunft 19 %","Verpflegung 11 %"]
[null,null,"durch Berechnungstage",null,{"$f":"ROUND(((E18*0.7)/E19),2)","v":2.02},null,{"$f":"ROUND(((E18*0.19)/E19),2)","v":0.55000000000000004},{"$f":"ROUND(((E18*0.11)/E19),2)","v":0.32}]
[]
[null,null,"vollstationäre Pflege"]
[null,null,null,"Aktuelle Pflegesätze (ohne ARB und ABZU):","Neue Pflegesätze:"]
[]
[null,null,"Pflegegrad 1",41.87,{"$f":"E27*0.78","v":43.446000000000005}]
[null,null,"Pflegegrad 2",53.68,{"$f":"D27+$E$21","v":55.7}]
[null,null,"Pflegegrad 3",69.849999999999994,{"$f":"D28+$E$21","v":71.86999999999999}]
[null,null,"Pflegegrad 4",86.71,{"$f":"D29+$E$21","v":88.72999999999999}]
[null,null,"Pflegegrad 5",94.27,{"$f":"D30+$E$21","v":96.289999999999992},null,"Einheitlicher Eigenanteil ohne ARB und ABZU"]
[null,null,"Einheitlicher Eigenanteil"]
[null,null,"ohne ARB und ABZU",28.36,{"$f":"D32+E21","v":30.38},null,{"$f":"ROUND(E32*30.42,2)","v":924.16}]
[null,null,null,null,"je Berechnungstag",null,"je Monat (30,42 Berechnungstage)"]
[null,null,"Unterkunft",20.67,{"$f":"D34+$G$21","v":21.220000000000002}]
[null,null,"Verpflegung",11.97,{"$f":"D35+$H$21","v":12.290000000000001}]
[]
[null,null,"eingestreute Kurzzeitpflege"]
[null,null,null,"Aktuelle Pflegesätze:","Neue Pflegesätze:"]
[]
[null,null,"Pflegegrad 1",49.23,{"$f":"E41*0.78","v":49.186800000000005}]
[null,null,"Pflegegrad 2",61.04,{"$f":"D41+$E$21","v":63.06}]
[null,null,"Pflegegrad 3",77.209999999999994,{"$f":"D42+$E$21","v":79.22999999999999}]
[null,null,"Pflegegrad 4",94.07,{"$f":"D43+$E$21","v":96.089999999999989}]
[null,null,"Pflegegrad 5",101.63,{"$f":"D44+$E$21","v":103.64999999999999}]
[]
[null,null,"Unterkunft",{"$f":"D34","v":20.67},{"$f":"D46+$G$21","v":21.220000000000002}]
[null,null,"Verpflegung",{"$f":"D35","v":11.97},{"$f":"D47+$H$21","v":12.290000000000001}]

{"sheet":"Anlage zum Personalaufwand","index":6,"n_rows":28,"n_cols":14,"rows_kept":28,"cut":false,"hidden":false,"merged":[[21,0,21,2],[0,0,0,13],[1,0,1,13],[2,0,2,13],[9,0,9,2],[15,0,15,2]]}
["Gemeinsame Formularblätter der Sozialleistungsträger und der Vereinigungen der Träger der Pflegeeinrichtungen auf Landesebene"]
["zum vereinfachten Verfahren nach § 19 Abs. 6 RV § 75 SGB XI für die vollstationäre Pflege in Rheinland-Pfalz"]
[" ANLAGE zum  F O R M U L A R B L A T T  I I I"]
[]
[]
[]
["Relevante Angaben zu den kalkulierten prospektiven Personalkosten"]
["Qualifikationsgruppe",null,null,"interne\nMA-Nr.","Alter/\nBetriebszugehörigkeit","Eingruppierung\ngem. Tarifwerk","Beschäftigungs-\numfang","AN Brutto\nLohnkosten","Zuschläge ","Zulagen","AG Anteil\nzur SV","AG Anteil\nZVK","kalkulierte\nJahrespersonal-kosten","Jahrespersonal-kosten pro VZK"]
[null,null,null,null,null,"Gruppe und Stufe"]
["Fachkräfte Pflege und Betreuung"]
[null,null,"Fachkraft",1,null,null,0.5,27500,null,null,6050,null,{"$f":"ROUND(SUM(H11:L11),2)","v":33550},{"$f":"IFERROR(M11/G11,0)","v":67100}]
[null,null,null,null,null,null,null,null,null,null,null,null,{"$f":"ROUND(SUM(H12:L12),2)","v":0},{"$f":"IFERROR(M12/G12,0)","v":0}]
[null,null,null,null,null,null,null,null,null,null,null,null,0,{"$f":"IFERROR(M13/G13,0)","v":0}]
[null,null,null,null,null,null,null,null,null,null,null,null,0,0]
[null,null,null,null,null,null,{"$f":"SUM(G11:G14)","v":0.5},null,null,null,null,null,{"$f":"SUM(M11:M14)","v":33550},{"$f":"M15/G15","v":67100}]
["Pflege- und Beutreuungskräfte mit mind. 1-jähriger Ausbildung"]
[null,null,"Hilfskraft mit mind.  1-jähriger Ausbildung",2,null,null,0.25,12000,null,null,2640,null,{"$f":"ROUND(SUM(H17:L17),2)","v":14640},{"$f":"IFERROR(M17/G17,0)","v":58560}]
[null,null,"Hilfskraft mit mind.  1-jähriger Ausbildung",3,null,null,0.27,12960,null,null,2851.2,null,{"$f":"ROUND(SUM(H18:L18),2)","v":15811.2},{"$f":"IFERROR(M18/G18,0)","v":58560}]
[null,null,null,null,null,null,null,null,null,null,null,null,{"$f":"ROUND(SUM(H19:L19),2)","v":0},{"$f":"IFERROR(M19/G19,0)","v":0}]
[null,null,null,null,null,null,null,null,null,null,null,null,0,{"$f":"IFERROR(M20/G20,0)","v":0}]
[null,null,null,null,null,null,{"$f":"SUM(G17:G20)","v":0.52},null,null,null,null,null,{"$f":"SUM(M17:M20)","v":30451.200000000001},{"$f":"M21/G21","v":58560}]
["Pflege- und Betreuungskräfte ohne Ausbildung"]
[null,null,"angelernte Hilfskraft",4,null,null,0.2,8000,null,null,1760,null,{"$f":"ROUND(SUM(H23:L23),2)","v":9760},{"$f":"IFERROR(M23/G23,0)","v":48800}]
[null,null,null,null,null,null,null,null,null,null,null,null,{"$f":"ROUND(SUM(H24:L24),2)","v":0},{"$f":"IFERROR(M24/G24,0)","v":0}]
[null,null,null,null,null,null,null,null,null,null,null,null,{"$f":"ROUND(SUM(H25:L25),2)","v":0},{"$f":"IFERROR(M25/G25,0)","v":0}]
[null,null,null,null,null,null,null,null,null,null,null,null,{"$f":"ROUND(SUM(H26:L26),2)","v":0},{"$f":"IFERROR(M26/G26,0)","v":0}]
[null,null,null,null,null,null,{"$f":"SUM(G23:G26)","v":0.2},null,null,null,null,null,{"$f":"SUM(M23:M26)","v":9760},{"$f":"M27/G27","v":48800}]
[null,null,"Summe",null,null,null,{"$f":"G27+G21+G15","v":1.22},null,null,null,null,null,{"$f":"M27+M21+M15","v":73761.2},{"$f":"ROUND(M28/G28,2)","v":60460}]

{"sheet":"Übersicht Heimentgelte","index":7,"n_rows":32,"n_cols":9,"rows_kept":32,"cut":false,"hidden":false,"merged":[[6,7,7,7],[0,0,0,9],[6,8,7,8],[6,9,7,9],[1,0,1,9],[2,0,2,9],[6,2,7,2],[6,3,7,3],[6,4,7,4],[6,5,7,5],[6,6,7,6],[13,5,14,5],[13,6,14,6],[13,7,14,7],[31,8,31,9],[31,2,31,3],[13,2,14,2],[13,3,14,3],[13,4,14,4]]}
["Gemeinsame Formularblätter der Sozialleistungsträger und der Vereinigungen der Träger der Pflegeeinrichtungen auf Landesebene"]
["zum vereinfachten Verfahren nach § 19 Abs. 6 RV § 75 SGB XI für die vollstationäre Pflege in Rheinland-Pfalz"]
["F O R M U L A R B L A T T  IV"]
[]
["E.","Übersicht  über die beantragten und nachrichtlichen Bestandteile der Gesamtheimentgelte"]
[]
[null,null,"vollstationäre Pflege","Pflegegrad 1\nEUR/Bewohner","Pflegegrad 2\nEUR/Bewohner","Pflegegrad 3\nEUR/Bewohner","Pflegegrad 4 EUR/Bewohner","Pflegegrad 5 EUR/Bewohner","Einheitlicher Eigenanteil je Berechnungstag \nohne ARB und ABZU"]
[]
[null,null," Pflegesatz",{"$f":"Personalaufwand!E26","v":43.446000000000005},{"$f":"Personalaufwand!E27","v":55.7},{"$f":"Personalaufwand!E28","v":71.86999999999999},{"$f":"Personalaufwand!E29","v":88.72999999999999},{"$f":"Personalaufwand!E30","v":96.289999999999992},{"$f":"Personalaufwand!E32","v":30.38}]
[null,"+"," Unterkunft ",{"$f":"Personalaufwand!E34","v":21.220000000000002},{"$f":"D10","v":21.220000000000002},{"$f":"E10","v":21.220000000000002},21.220000000000002,{"$f":"G10","v":21.220000000000002}]
[null,"+"," Verpflegung",{"$f":"Personalaufwand!E35","v":12.290000000000001},{"$f":"D11","v":12.290000000000001},12.290000000000001,12.290000000000001,12.290000000000001]
[]
[]
[null,null,"eingestreute \nKurzzeitpflege","Pflegegrad 1\nEUR/Bewohner","Pflegegrad 2\nEUR/Bewohner","Pflegegrad 3\nEUR/Bewohner","Pflegegrad 4 EUR/Bewohner","Pflegegrad 5 EUR/Bewohner"]
[]
[null,null," Pflegesatz",{"$f":"Personalaufwand!E40","v":49.186800000000005},{"$f":"Personalaufwand!E41","v":63.06},{"$f":"Personalaufwand!E42","v":79.22999999999999},{"$f":"Personalaufwand!E43","v":96.089999999999989},{"$f":"Personalaufwand!E44","v":103.64999999999999}]
[null,null," Unterkunft ",{"$f":"Personalaufwand!E46","v":21.220000000000002},{"$f":"D17","v":21.220000000000002},{"$f":"E17","v":21.220000000000002},21.220000000000002,{"$f":"G17","v":21.220000000000002}]
[null,null," Verpflegung",{"$f":"Personalaufwand!E47","v":12.290000000000001},{"$f":"D18","v":12.290000000000001},12.290000000000001,12.290000000000001,12.290000000000001]
[]
[null,null," Der Einrichtungsträger verpflichtet sich hiermit dazu:"]
[]
[null,"-","eine Kopie der Stellungnahme des Heimbeirats zur geplanten Entgelterhöhung"]
[]
[null,"-","die vereinbarten Personalwerte auf Basis des § 19 Abs. 4, 6 des Rahmenvertrags nach § 75 SGB XI einzuhalten."]
[]
[]
[null,null," Für die Richtigkeit der Angaben"]
[]
[]
[]
[null,null," ","2023-11-15"]
[null,null,"Ort, Datum",null,null,null,null,null,"Unterschrift des Trägers"]